BEGIN:VCALENDAR
VERSION:2.0
PRODID:-//Stillwell-Hansen - ECPv6.15.20//NONSGML v1.0//EN
CALSCALE:GREGORIAN
METHOD:PUBLISH
X-ORIGINAL-URL:https://stillwell-hansen.com
X-WR-CALDESC:Events for Stillwell-Hansen
REFRESH-INTERVAL;VALUE=DURATION:PT1H
X-Robots-Tag:noindex
X-PUBLISHED-TTL:PT1H
BEGIN:VTIMEZONE
TZID:America/New_York
BEGIN:DAYLIGHT
TZOFFSETFROM:-0500
TZOFFSETTO:-0400
TZNAME:EDT
DTSTART:20230312T070000
END:DAYLIGHT
BEGIN:STANDARD
TZOFFSETFROM:-0400
TZOFFSETTO:-0500
TZNAME:EST
DTSTART:20231105T060000
END:STANDARD
BEGIN:DAYLIGHT
TZOFFSETFROM:-0500
TZOFFSETTO:-0400
TZNAME:EDT
DTSTART:20240310T070000
END:DAYLIGHT
BEGIN:STANDARD
TZOFFSETFROM:-0400
TZOFFSETTO:-0500
TZNAME:EST
DTSTART:20241103T060000
END:STANDARD
BEGIN:DAYLIGHT
TZOFFSETFROM:-0500
TZOFFSETTO:-0400
TZNAME:EDT
DTSTART:20250309T070000
END:DAYLIGHT
BEGIN:STANDARD
TZOFFSETFROM:-0400
TZOFFSETTO:-0500
TZNAME:EST
DTSTART:20251102T060000
END:STANDARD
END:VTIMEZONE
BEGIN:VEVENT
DTSTART;TZID=America/New_York:20240523T080000
DTEND;TZID=America/New_York:20240523T120000
DTSTAMP:20260423T124926
CREATED:20240430T192123Z
LAST-MODIFIED:20240501T155949Z
UID:9529-1716451200-1716465600@stillwell-hansen.com
SUMMARY:Liquid Cooling Coffee Talk
DESCRIPTION:Liquid Cooling Coffee TalkPresented by Alan Goerke \nWe are thrilled to invite you to join us for a coffee talk presented by Alan Goerke\, Director\, Thermal Technical Business Development at Vertiv. On May 23\, 2024\, prepare to delve into the future of data center cooling with our cutting-edge high density\, liquid cooling solutions. \nDuring this presentation\, you will gain insights into the latest liquid cooling innovations that promise enhanced efficiency and sustainability for your data center operations. From reducing energy consumption to optimizing performance\, Alan will guide you through the advantages of liquid cooling. \nCEU’s available! \nRegister Now
URL:https://stillwell-hansen.com/event/liquid-cooling-coffee-talk/
LOCATION:Stillwell-Hansen\, 3 Fernwood Ave\, Edison\, NJ\, 08837\, United States
CATEGORIES:Coffee Talk
ATTACH;FMTTYPE=image/png:https://stillwell-hansen.com/wp-content/uploads/2024/04/High_Density_Cooling-Coffee-Talk-__52_-_1_.png
ORGANIZER;CN="Stillwell-Hansen":MAILTO:info@stillwell-hansen.com
END:VEVENT
BEGIN:VEVENT
DTSTART;TZID=America/New_York:20240514T080000
DTEND;TZID=America/New_York:20240514T160000
DTSTAMP:20260423T124926
CREATED:20240430T190409Z
LAST-MODIFIED:20240501T160240Z
UID:9525-1715673600-1715702400@stillwell-hansen.com
SUMMARY:Liebert iCOM Training
DESCRIPTION:Liebert iCOM Training$300 Per Person \nOur Liebert® iCOM™ Thermal System training is guided by our Technical Service Manager\, Bob Visich. Understand the newest iCOM controls using real simulators. Learn sequence of operations\, set-up\, programming parameters\, and troubleshooting of Liebert’s standardized control platform. \n\n\n\niCOM Operation\, Controls\, Programming\, Hardware and Networking \n\n\n\niCOM Operation\, Controls\, Programming\, Hardware and Networking\n\n\n\nHands-on Learning with Live Simulators \n\n\n\n\nCompletion Certificate \n\n\n\nRegister Now
URL:https://stillwell-hansen.com/event/liebert-icom-training/
LOCATION:Stillwell-Hansen\, 3 Fernwood Ave\, Edison\, NJ\, 08837\, United States
CATEGORIES:Liebert Training
ATTACH;FMTTYPE=image/png:https://stillwell-hansen.com/wp-content/uploads/2024/04/1.png
ORGANIZER;CN="Stillwell-Hansen":MAILTO:info@stillwell-hansen.com
END:VEVENT
END:VCALENDAR